Package: trackViewer Version: 1.46.0 Command: rm -rf trackViewer.buildbin-libdir && mkdir trackViewer.buildbin-libdir && /Users/biocbuild/BBS/utils/build-universal.sh trackViewer_1.46.0.tar.gz /Library/Frameworks/R.framework/Resources/bin/R trackViewer.buildbin-libdir StartedAt: 2025-11-10 23:39:54 -0500 (Mon, 10 Nov 2025) EndedAt: 2025-11-10 23:40:20 -0500 (Mon, 10 Nov 2025) EllapsedTime: 26.6 seconds RetCode: 0 Status: OK PackageFile: trackViewer_1.46.0.tgz PackageFileSize: 13.63 MiB