Package: topdownr Version: 1.32.0 Command: /home/biocbuild/bbs-3.22-bioc/R/bin/R CMD INSTALL topdownr StartedAt: 2025-11-16 15:39:00 -0500 (Sun, 16 Nov 2025) EndedAt: 2025-11-16 15:39:50 -0500 (Sun, 16 Nov 2025) EllapsedTime: 50.3 seconds RetCode: 0 Status: OK