Package: topdownr Version: 1.32.0 Command: /home/biocbuild/bbs-3.22-bioc/R/bin/R CMD build --keep-empty-dirs --no-resave-data --md5 topdownr StartedAt: 2025-11-16 20:43:44 -0500 (Sun, 16 Nov 2025) EndedAt: 2025-11-16 20:45:12 -0500 (Sun, 16 Nov 2025) EllapsedTime: 88.2 seconds RetCode: 0 Status: OK PackageFile: topdownr_1.32.0.tar.gz PackageFileSize: 1.555 MiB