Package: tkWidgets Version: 1.87.0 Command: /home/biocbuild/bbs-3.22-bioc/R/bin/R CMD INSTALL tkWidgets StartedAt: 2025-10-24 15:15:38 -0400 (Fri, 24 Oct 2025) EndedAt: 2025-10-24 15:15:44 -0400 (Fri, 24 Oct 2025) EllapsedTime: 6.3 seconds RetCode: 0 Status: OK