Package: timecourse Version: 1.82.0 Command: /Library/Frameworks/R.framework/Resources/bin/R CMD INSTALL timecourse StartedAt: 2025-11-10 15:06:58 -0500 (Mon, 10 Nov 2025) EndedAt: 2025-11-10 15:07:01 -0500 (Mon, 10 Nov 2025) EllapsedTime: 3.0 seconds RetCode: 0 Status: OK