Package: timecourse Version: 1.82.0 Command: /Library/Frameworks/R.framework/Resources/bin/R CMD build --keep-empty-dirs --no-resave-data timecourse StartedAt: 2025-11-10 18:00:30 -0500 (Mon, 10 Nov 2025) EndedAt: 2025-11-10 18:00:38 -0500 (Mon, 10 Nov 2025) EllapsedTime: 8.1 seconds RetCode: 0 Status: OK PackageFile: timecourse_1.82.0.tar.gz PackageFileSize: 841.5 KiB