Package: timecourse Version: 1.82.0 Command: rm -rf timecourse.buildbin-libdir && mkdir timecourse.buildbin-libdir && /Users/biocbuild/BBS/utils/build-universal.sh timecourse_1.82.0.tar.gz /Library/Frameworks/R.framework/Resources/bin/R timecourse.buildbin-libdir StartedAt: 2025-11-10 23:39:43 -0500 (Mon, 10 Nov 2025) EndedAt: 2025-11-10 23:39:46 -0500 (Mon, 10 Nov 2025) EllapsedTime: 3.1 seconds RetCode: 0 Status: OK PackageFile: timecourse_1.82.0.tgz PackageFileSize: 945.4 KiB