Package: tilingArray Version: 1.87.0 Command: /home/biocbuild/bbs-3.22-bioc/R/bin/R CMD INSTALL tilingArray StartedAt: 2025-10-24 16:07:42 -0400 (Fri, 24 Oct 2025) EndedAt: 2025-10-24 16:08:06 -0400 (Fri, 24 Oct 2025) EllapsedTime: 23.7 seconds RetCode: 0 Status: OK