Package: tilingArray Version: 1.88.0 Command: /home/biocbuild/bbs-3.22-bioc/R/bin/R CMD check --install=check:tilingArray.install-out.txt --library=/home/biocbuild/bbs-3.22-bioc/R/site-library --timings tilingArray_1.88.0.tar.gz StartedAt: 2025-11-15 05:13:16 -0500 (Sat, 15 Nov 2025) EndedAt: 2025-11-15 05:16:11 -0500 (Sat, 15 Nov 2025) EllapsedTime: 174.2 seconds RetCode: 0 Status: OK CheckDir: tilingArray.Rcheck Warnings: 0