Package: tilingArray Version: 1.88.0 Command: rm -rf tilingArray.buildbin-libdir && mkdir tilingArray.buildbin-libdir && /Users/biocbuild/BBS/utils/build-universal.sh tilingArray_1.88.0.tar.gz /Library/Frameworks/R.framework/Resources/bin/R tilingArray.buildbin-libdir StartedAt: 2025-11-18 18:45:16 -0500 (Tue, 18 Nov 2025) EndedAt: 2025-11-18 18:46:13 -0500 (Tue, 18 Nov 2025) EllapsedTime: 56.8 seconds RetCode: 0 Status: OK PackageFile: tilingArray_1.88.0.tgz PackageFileSize: 3.881 MiB