Package: tilingArray Version: 1.88.0 Command: /Library/Frameworks/R.framework/Resources/bin/R CMD INSTALL tilingArray StartedAt: 2025-11-17 18:30:44 -0500 (Mon, 17 Nov 2025) EndedAt: 2025-11-17 18:30:55 -0500 (Mon, 17 Nov 2025) EllapsedTime: 10.2 seconds RetCode: 0 Status: OK