Package: tilingArray Version: 1.88.0 Command: /Library/Frameworks/R.framework/Resources/bin/R CMD build --keep-empty-dirs --no-resave-data tilingArray StartedAt: 2025-11-18 01:50:56 -0500 (Tue, 18 Nov 2025) EndedAt: 2025-11-18 01:51:20 -0500 (Tue, 18 Nov 2025) EllapsedTime: 24.2 seconds RetCode: 0 Status: OK PackageFile: tilingArray_1.88.0.tar.gz PackageFileSize: 3.488 MiB