Package: tidytof Version: 1.4.0 Command: /Library/Frameworks/R.framework/Resources/bin/R CMD INSTALL tidytof StartedAt: 2025-11-03 15:20:17 -0500 (Mon, 03 Nov 2025) EndedAt: 2025-11-03 15:20:55 -0500 (Mon, 03 Nov 2025) EllapsedTime: 38.0 seconds RetCode: 0 Status: OK