Package: tidytof Version: 1.4.0 Command: /Library/Frameworks/R.framework/Resources/bin/R CMD build --keep-empty-dirs --no-resave-data tidytof StartedAt: 2025-11-03 19:05:28 -0500 (Mon, 03 Nov 2025) EndedAt: 2025-11-03 19:10:21 -0500 (Mon, 03 Nov 2025) EllapsedTime: 292.8 seconds RetCode: 0 Status: OK PackageFile: tidytof_1.4.0.tar.gz PackageFileSize: 2.687 MiB