Package: tidytof Version: 1.3.0 Command: /Library/Frameworks/R.framework/Resources/bin/R CMD INSTALL tidytof StartedAt: 2025-10-26 15:07:27 -0400 (Sun, 26 Oct 2025) EndedAt: 2025-10-26 15:07:37 -0400 (Sun, 26 Oct 2025) EllapsedTime: 10.1 seconds RetCode: 0 Status: OK