Package: tidytof Version: 1.3.0 Command: /Library/Frameworks/R.framework/Resources/bin/R CMD build --keep-empty-dirs --no-resave-data tidytof StartedAt: 2025-10-26 18:13:48 -0400 (Sun, 26 Oct 2025) EndedAt: 2025-10-26 18:16:36 -0400 (Sun, 26 Oct 2025) EllapsedTime: 168.9 seconds RetCode: 1 Status: ERROR PackageFile: None PackageFileSize: NA