Package: tidytof Version: 1.3.0 Command: rm -rf tidytof.buildbin-libdir && mkdir tidytof.buildbin-libdir && /Users/biocbuild/BBS/utils/build-universal.sh tidytof_1.3.0.tar.gz /Library/Frameworks/R.framework/Resources/bin/R tidytof.buildbin-libdir StartedAt: 2025-10-24 23:22:38 -0400 (Fri, 24 Oct 2025) EndedAt: 2025-10-24 23:22:50 -0400 (Fri, 24 Oct 2025) EllapsedTime: 12.3 seconds RetCode: 0 Status: OK PackageFile: tidytof_1.3.0.tgz PackageFileSize: 3.206 MiB