Package: tidytof Version: 1.4.0 Command: /Library/Frameworks/R.framework/Resources/bin/R CMD build --keep-empty-dirs --no-resave-data tidytof StartedAt: 2025-11-18 01:49:41 -0500 (Tue, 18 Nov 2025) EndedAt: 2025-11-18 01:52:06 -0500 (Tue, 18 Nov 2025) EllapsedTime: 144.2 seconds RetCode: 0 Status: OK PackageFile: tidytof_1.4.0.tar.gz PackageFileSize: 2.687 MiB