Package: tidytof Version: 1.4.0 Command: rm -rf tidytof.buildbin-libdir && mkdir tidytof.buildbin-libdir && /Users/biocbuild/BBS/utils/build-universal.sh tidytof_1.4.0.tar.gz /Library/Frameworks/R.framework/Resources/bin/R tidytof.buildbin-libdir StartedAt: 2025-11-18 16:33:14 -0500 (Tue, 18 Nov 2025) EndedAt: 2025-11-18 16:33:30 -0500 (Tue, 18 Nov 2025) EllapsedTime: 15.2 seconds RetCode: 0 Status: OK PackageFile: tidytof_1.4.0.tgz PackageFileSize: 3.209 MiB