Package: tidysbml Version: 1.4.0 Command: /home/biocbuild/bbs-3.22-bioc/R/bin/R CMD INSTALL tidysbml StartedAt: 2025-11-11 15:08:55 -0500 (Tue, 11 Nov 2025) EndedAt: 2025-11-11 15:09:17 -0500 (Tue, 11 Nov 2025) EllapsedTime: 21.2 seconds RetCode: 0 Status: OK