Package: tidyomics Version: 1.6.0 Command: /Library/Frameworks/R.framework/Resources/bin/R CMD INSTALL tidyomics StartedAt: 2025-11-03 15:37:40 -0500 (Mon, 03 Nov 2025) EndedAt: 2025-11-03 15:38:26 -0500 (Mon, 03 Nov 2025) EllapsedTime: 46.8 seconds RetCode: 0 Status: OK