Package: tidyomics Version: 1.6.0 Command: /Library/Frameworks/R.framework/Resources/bin/R CMD build --keep-empty-dirs --no-resave-data tidyomics StartedAt: 2025-11-03 19:05:00 -0500 (Mon, 03 Nov 2025) EndedAt: 2025-11-03 19:05:40 -0500 (Mon, 03 Nov 2025) EllapsedTime: 40.9 seconds RetCode: 0 Status: OK PackageFile: tidyomics_1.6.0.tar.gz PackageFileSize: 56.32 KiB