Package: tidyomics Version: 1.6.0 Command: rm -rf tidyomics.buildbin-libdir && mkdir tidyomics.buildbin-libdir && /Users/biocbuild/BBS/utils/build-universal.sh tidyomics_1.6.0.tar.gz /Library/Frameworks/R.framework/Resources/bin/R tidyomics.buildbin-libdir StartedAt: 2025-11-04 02:08:32 -0500 (Tue, 04 Nov 2025) EndedAt: 2025-11-04 02:09:22 -0500 (Tue, 04 Nov 2025) EllapsedTime: 50.4 seconds RetCode: 0 Status: OK PackageFile: tidyomics_1.6.0.tgz PackageFileSize: 74.41 KiB