Package: tidyomics Version: 1.5.0 Command: /Library/Frameworks/R.framework/Resources/bin/R CMD INSTALL tidyomics StartedAt: 2025-10-26 15:18:47 -0400 (Sun, 26 Oct 2025) EndedAt: 2025-10-26 15:19:02 -0400 (Sun, 26 Oct 2025) EllapsedTime: 15.0 seconds RetCode: 0 Status: OK