Package: tidyomics Version: 1.5.0 Command: /Library/Frameworks/R.framework/Resources/bin/R CMD build --keep-empty-dirs --no-resave-data tidyomics StartedAt: 2025-10-26 18:13:33 -0400 (Sun, 26 Oct 2025) EndedAt: 2025-10-26 18:13:48 -0400 (Sun, 26 Oct 2025) EllapsedTime: 14.2 seconds RetCode: 0 Status: OK PackageFile: tidyomics_1.5.0.tar.gz PackageFileSize: 55.93 KiB