Package: tidyomics Version: 1.5.0 Command: rm -rf tidyomics.buildbin-libdir && mkdir tidyomics.buildbin-libdir && /Users/biocbuild/BBS/utils/build-universal.sh tidyomics_1.5.0.tar.gz /Library/Frameworks/R.framework/Resources/bin/R tidyomics.buildbin-libdir StartedAt: 2025-10-26 22:50:17 -0400 (Sun, 26 Oct 2025) EndedAt: 2025-10-26 22:50:32 -0400 (Sun, 26 Oct 2025) EllapsedTime: 15.4 seconds RetCode: 0 Status: OK PackageFile: tidyomics_1.5.0.tgz PackageFileSize: 73.37 KiB