Package: tidyomics Version: 1.6.0 Command: /Library/Frameworks/R.framework/Resources/bin/R CMD INSTALL tidyomics StartedAt: 2025-11-17 17:54:34 -0500 (Mon, 17 Nov 2025) EndedAt: 2025-11-17 17:54:47 -0500 (Mon, 17 Nov 2025) EllapsedTime: 13.0 seconds RetCode: 0 Status: OK