Package: tidyomics Version: 1.6.0 Command: /Library/Frameworks/R.framework/Resources/bin/R CMD build --keep-empty-dirs --no-resave-data tidyomics StartedAt: 2025-11-18 01:48:29 -0500 (Tue, 18 Nov 2025) EndedAt: 2025-11-18 01:48:49 -0500 (Tue, 18 Nov 2025) EllapsedTime: 20.1 seconds RetCode: 0 Status: OK PackageFile: tidyomics_1.6.0.tar.gz PackageFileSize: 56.34 KiB