Package: tidybulk Version: 1.99.4 Command: /home/biocbuild/bbs-3.22-bioc/R/bin/R CMD INSTALL tidybulk StartedAt: 2025-10-24 15:35:10 -0400 (Fri, 24 Oct 2025) EndedAt: 2025-10-24 15:35:43 -0400 (Fri, 24 Oct 2025) EllapsedTime: 33.5 seconds RetCode: 0 Status: OK