Package: tidybulk Version: 1.99.4 Command: /home/biocbuild/bbs-3.22-bioc/R/bin/R CMD build --keep-empty-dirs --no-resave-data --md5 tidybulk StartedAt: 2025-10-24 20:38:17 -0400 (Fri, 24 Oct 2025) EndedAt: 2025-10-24 20:55:51 -0400 (Fri, 24 Oct 2025) EllapsedTime: 1054.0 seconds RetCode: 0 Status: OK PackageFile: tidybulk_1.99.4.tar.gz PackageFileSize: 4.74 MiB