Package: tidybulk Version: 2.0.0 Command: /Library/Frameworks/R.framework/Resources/bin/R CMD INSTALL tidybulk StartedAt: 2025-11-02 15:34:06 -0500 (Sun, 02 Nov 2025) EndedAt: 2025-11-02 15:34:50 -0500 (Sun, 02 Nov 2025) EllapsedTime: 44.3 seconds RetCode: 0 Status: OK