Package: tidybulk Version: 2.0.0 Command: /Library/Frameworks/R.framework/Resources/bin/R CMD build --keep-empty-dirs --no-resave-data tidybulk StartedAt: 2025-11-02 19:06:53 -0500 (Sun, 02 Nov 2025) EndedAt: 2025-11-02 19:22:39 -0500 (Sun, 02 Nov 2025) EllapsedTime: 946.0 seconds RetCode: 0 Status: OK PackageFile: tidybulk_2.0.0.tar.gz PackageFileSize: 4.992 MiB