Package: tidybulk Version: 1.99.4 Command: /Library/Frameworks/R.framework/Resources/bin/R CMD INSTALL tidybulk StartedAt: 2025-10-26 15:13:08 -0400 (Sun, 26 Oct 2025) EndedAt: 2025-10-26 15:13:22 -0400 (Sun, 26 Oct 2025) EllapsedTime: 13.8 seconds RetCode: 0 Status: OK