Package: tidybulk Version: 1.99.4 Command: /Library/Frameworks/R.framework/Resources/bin/R CMD build --keep-empty-dirs --no-resave-data tidybulk StartedAt: 2025-10-26 18:13:20 -0400 (Sun, 26 Oct 2025) EndedAt: 2025-10-26 18:19:30 -0400 (Sun, 26 Oct 2025) EllapsedTime: 370.2 seconds RetCode: 0 Status: OK PackageFile: tidybulk_1.99.4.tar.gz PackageFileSize: 4.992 MiB