Package: tidybulk Version: 2.0.0 Maintainer: Stefano Mangiola MaintainerEmail: mangiolastefano at gmail.com git_url: https://git.bioconductor.org/packages/tidybulk git_branch: RELEASE_3_22 git_last_commit: ade4539 git_last_commit_date: 2025-10-29 10:57:24 -0500 (Wed, 29 Oct 2025)