Package: tidySummarizedExperiment Version: 1.20.1 Command: /home/biocbuild/R/R/bin/R CMD INSTALL tidySummarizedExperiment StartedAt: 2025-11-17 21:41:07 -0000 (Mon, 17 Nov 2025) EndedAt: 2025-11-17 21:41:44 -0000 (Mon, 17 Nov 2025) EllapsedTime: 36.2 seconds RetCode: 0 Status: OK