Package: tidySummarizedExperiment Version: 1.20.1 Command: /home/biocbuild/R/R/bin/R CMD build --keep-empty-dirs --no-resave-data tidySummarizedExperiment StartedAt: 2025-11-18 05:46:40 -0000 (Tue, 18 Nov 2025) EndedAt: 2025-11-18 05:47:35 -0000 (Tue, 18 Nov 2025) EllapsedTime: 55.0 seconds RetCode: 0 Status: OK PackageFile: tidySummarizedExperiment_1.20.1.tar.gz PackageFileSize: 366.6 KiB