Package: tidySummarizedExperiment Version: 1.19.7 Command: /home/biocbuild/bbs-3.22-bioc/R/bin/R CMD INSTALL tidySummarizedExperiment StartedAt: 2025-10-24 15:43:38 -0400 (Fri, 24 Oct 2025) EndedAt: 2025-10-24 15:44:04 -0400 (Fri, 24 Oct 2025) EllapsedTime: 25.5 seconds RetCode: 0 Status: OK