Package: tidySummarizedExperiment Version: 1.19.7 Command: /home/biocbuild/bbs-3.22-bioc/R/bin/R CMD build --keep-empty-dirs --no-resave-data --md5 tidySummarizedExperiment StartedAt: 2025-10-24 20:39:21 -0400 (Fri, 24 Oct 2025) EndedAt: 2025-10-24 20:40:00 -0400 (Fri, 24 Oct 2025) EllapsedTime: 39.0 seconds RetCode: 0 Status: OK PackageFile: tidySummarizedExperiment_1.19.7.tar.gz PackageFileSize: 390.1 KiB