Package: tidySummarizedExperiment Version: 1.19.7 Command: /Library/Frameworks/R.framework/Resources/bin/R CMD build --keep-empty-dirs --no-resave-data tidySummarizedExperiment StartedAt: 2025-10-24 19:04:23 -0400 (Fri, 24 Oct 2025) EndedAt: 2025-10-24 19:05:13 -0400 (Fri, 24 Oct 2025) EllapsedTime: 49.6 seconds RetCode: 0 Status: OK PackageFile: tidySummarizedExperiment_1.19.7.tar.gz PackageFileSize: 391.7 KiB