Package: tidySummarizedExperiment Version: 1.19.7 Command: /Library/Frameworks/R.framework/Resources/bin/R CMD INSTALL tidySummarizedExperiment StartedAt: 2025-10-24 15:21:10 -0400 (Fri, 24 Oct 2025) EndedAt: 2025-10-24 15:21:21 -0400 (Fri, 24 Oct 2025) EllapsedTime: 11.3 seconds RetCode: 0 Status: OK