Package: tidySummarizedExperiment Version: 1.19.7 Command: /Library/Frameworks/R.framework/Resources/bin/R CMD build --keep-empty-dirs --no-resave-data tidySummarizedExperiment StartedAt: 2025-10-24 17:59:14 -0400 (Fri, 24 Oct 2025) EndedAt: 2025-10-24 17:59:32 -0400 (Fri, 24 Oct 2025) EllapsedTime: 17.2 seconds RetCode: 0 Status: OK PackageFile: tidySummarizedExperiment_1.19.7.tar.gz PackageFileSize: 395.9 KiB