Package: tidySummarizedExperiment Version: 1.19.7 Command: rm -rf tidySummarizedExperiment.buildbin-libdir && mkdir tidySummarizedExperiment.buildbin-libdir && /Users/biocbuild/BBS/utils/build-universal.sh tidySummarizedExperiment_1.19.7.tar.gz /Library/Frameworks/R.framework/Resources/bin/R tidySummarizedExperiment.buildbin-libdir StartedAt: 2025-10-24 23:22:38 -0400 (Fri, 24 Oct 2025) EndedAt: 2025-10-24 23:22:50 -0400 (Fri, 24 Oct 2025) EllapsedTime: 12.3 seconds RetCode: 0 Status: OK PackageFile: tidySummarizedExperiment_1.19.7.tgz PackageFileSize: 574.9 KiB