Package: tidySummarizedExperiment Version: 1.19.7 Maintainer: Stefano Mangiola MaintainerEmail: mangiolastefano at gmail.com git_url: https://git.bioconductor.org/packages/tidySummarizedExperiment git_branch: devel git_last_commit: d16eb22 git_last_commit_date: 2025-10-24 23:36:41 -0400 (Fri, 24 Oct 2025)