Package: tidySpatialExperiment Version: 1.6.0 Command: /home/biocbuild/bbs-3.22-bioc/R/bin/R CMD check --install=check:tidySpatialExperiment.install-out.txt --library=/home/biocbuild/bbs-3.22-bioc/R/site-library --timings tidySpatialExperiment_1.6.0.tar.gz StartedAt: 2025-11-10 05:08:15 -0500 (Mon, 10 Nov 2025) EndedAt: 2025-11-10 05:12:12 -0500 (Mon, 10 Nov 2025) EllapsedTime: 236.2 seconds RetCode: 1 Status: ERROR CheckDir: tidySpatialExperiment.Rcheck Warnings: NA