Package: tidySpatialExperiment Version: 1.6.1 Command: /Library/Frameworks/R.framework/Resources/bin/R CMD build --keep-empty-dirs --no-resave-data tidySpatialExperiment StartedAt: 2025-11-18 02:55:49 -0500 (Tue, 18 Nov 2025) EndedAt: 2025-11-18 02:57:46 -0500 (Tue, 18 Nov 2025) EllapsedTime: 116.5 seconds RetCode: 0 Status: OK PackageFile: tidySpatialExperiment_1.6.1.tar.gz PackageFileSize: 4.304 MiB