Package: tidySpatialExperiment Version: 1.6.1 Command: rm -rf tidySpatialExperiment.buildbin-libdir && mkdir tidySpatialExperiment.buildbin-libdir && /Users/biocbuild/BBS/utils/build-universal.sh tidySpatialExperiment_1.6.1.tar.gz /Library/Frameworks/R.framework/Resources/bin/R tidySpatialExperiment.buildbin-libdir StartedAt: 2025-11-18 18:45:05 -0500 (Tue, 18 Nov 2025) EndedAt: 2025-11-18 18:46:11 -0500 (Tue, 18 Nov 2025) EllapsedTime: 66.8 seconds RetCode: 0 Status: OK PackageFile: tidySpatialExperiment_1.6.1.tgz PackageFileSize: 2.875 MiB