Package: tidySpatialExperiment Version: 1.5.1 Command: /Library/Frameworks/R.framework/Resources/bin/R CMD build --keep-empty-dirs --no-resave-data tidySpatialExperiment StartedAt: 2025-10-24 17:59:10 -0400 (Fri, 24 Oct 2025) EndedAt: 2025-10-24 17:59:33 -0400 (Fri, 24 Oct 2025) EllapsedTime: 22.3 seconds RetCode: 0 Status: OK PackageFile: tidySpatialExperiment_1.5.1.tar.gz PackageFileSize: 4.305 MiB