Package: tidySpatialExperiment Version: 1.6.1 Command: /Library/Frameworks/R.framework/Resources/bin/R CMD INSTALL tidySpatialExperiment StartedAt: 2025-11-17 17:35:03 -0500 (Mon, 17 Nov 2025) EndedAt: 2025-11-17 17:35:14 -0500 (Mon, 17 Nov 2025) EllapsedTime: 11.0 seconds RetCode: 0 Status: OK