Package: tidySingleCellExperiment Version: 1.19.1 Command: /Library/Frameworks/R.framework/Resources/bin/R CMD build --keep-empty-dirs --no-resave-data tidySingleCellExperiment StartedAt: 2025-10-24 19:03:59 -0400 (Fri, 24 Oct 2025) EndedAt: 2025-10-24 19:05:41 -0400 (Fri, 24 Oct 2025) EllapsedTime: 101.1 seconds RetCode: 0 Status: OK PackageFile: tidySingleCellExperiment_1.19.1.tar.gz PackageFileSize: 1.811 MiB